Workbook
Name HTF_Budget_Current_ActualNumberHouseholdsPerMonth: 'Utilization Projection'!#REF!
Name HTF_Budget_Current_AdminFee: 'Utilization Projection'!#REF!
Name HTF_Budget_Current_AverageRentalSubsidyRAOnly: 'Utilization Projection'!#REF!
Name HTF_Budget_Current_GrantAmount: 'Utilization Projection'!#REF!
Name HTF_Budget_Current_ProjectedUnspentBalance: 'Utilization Projection'!#REF!
Name HTF_Budget_Current_TargetNumberHouseholdsPerMonth: 'Utilization Projection'!#REF!
Name HTF_Budget_UtilizationProjectionGrid_AdministrativeFeePerHouseholdColumn_Row_1: 'Utilization Projection'!$I$6
Name HTF_Budget_UtilizationProjectionGrid_AdministrativeFeePerHouseholdColumn_Row_10: 'Utilization Projection'!$I$15
Name HTF_Budget_UtilizationProjectionGrid_AdministrativeFeePerHouseholdColumn_Row_11: 'Utilization Projection'!$I$16
Name HTF_Budget_UtilizationProjectionGrid_AdministrativeFeePerHouseholdColumn_Row_12: 'Utilization Projection'!$I$17
Name HTF_Budget_UtilizationProjectionGrid_AdministrativeFeePerHouseholdColumn_Row_13: 'Utilization Projection'!$I$18
Name HTF_Budget_UtilizationProjectionGrid_AdministrativeFeePerHouseholdColumn_Row_14: 'Utilization Projection'!$I$19
Name HTF_Budget_UtilizationProjectionGrid_AdministrativeFeePerHouseholdColumn_Row_15: 'Utilization Projection'!$I$20
Name HTF_Budget_UtilizationProjectionGrid_AdministrativeFeePerHouseholdColumn_Row_16: 'Utilization Projection'!$I$21
Name HTF_Budget_UtilizationProjectionGrid_AdministrativeFeePerHouseholdColumn_Row_17: 'Utilization Projection'!$I$22
Name HTF_Budget_UtilizationProjectionGrid_AdministrativeFeePerHouseholdColumn_Row_18: 'Utilization Projection'!$I$23
Name HTF_Budget_UtilizationProjectionGrid_AdministrativeFeePerHouseholdColumn_Row_19: 'Utilization Projection'!$I$24
Name HTF_Budget_UtilizationProjectionGrid_AdministrativeFeePerHouseholdColumn_Row_2: 'Utilization Projection'!$I$7
Name HTF_Budget_UtilizationProjectionGrid_AdministrativeFeePerHouseholdColumn_Row_20: 'Utilization Projection'!$I$25
Name HTF_Budget_UtilizationProjectionGrid_AdministrativeFeePerHouseholdColumn_Row_21: 'Utilization Projection'!$I$26
Name HTF_Budget_UtilizationProjectionGrid_AdministrativeFeePerHouseholdColumn_Row_22: 'Utilization Projection'!$I$27
Name HTF_Budget_UtilizationProjectionGrid_AdministrativeFeePerHouseholdColumn_Row_23: 'Utilization Projection'!$I$28
Name HTF_Budget_UtilizationProjectionGrid_AdministrativeFeePerHouseholdColumn_Row_24: 'Utilization Projection'!$I$29
Name HTF_Budget_UtilizationProjectionGrid_AdministrativeFeePerHouseholdColumn_Row_25: 'Utilization Projection'!#REF!
Name HTF_Budget_UtilizationProjectionGrid_AdministrativeFeePerHouseholdColumn_Row_26: 'Utilization Projection'!#REF!
Name HTF_Budget_UtilizationProjectionGrid_AdministrativeFeePerHouseholdColumn_Row_27: 'Utilization Projection'!#REF!
Name HTF_Budget_UtilizationProjectionGrid_AdministrativeFeePerHouseholdColumn_Row_28: 'Utilization Projection'!#REF!
Name HTF_Budget_UtilizationProjectionGrid_AdministrativeFeePerHouseholdColumn_Row_29: 'Utilization Projection'!#REF!
Name HTF_Budget_UtilizationProjectionGrid_AdministrativeFeePerHouseholdColumn_Row_3: 'Utilization Projection'!$I$8
Name HTF_Budget_UtilizationProjectionGrid_AdministrativeFeePerHouseholdColumn_Row_30: 'Utilization Projection'!#REF!
Name HTF_Budget_UtilizationProjectionGrid_AdministrativeFeePerHouseholdColumn_Row_31: 'Utilization Projection'!#REF!
Name HTF_Budget_UtilizationProjectionGrid_AdministrativeFeePerHouseholdColumn_Row_32: 'Utilization Projection'!#REF!
Name HTF_Budget_UtilizationProjectionGrid_AdministrativeFeePerHouseholdColumn_Row_33: 'Utilization Projection'!#REF!
Name HTF_Budget_UtilizationProjectionGrid_AdministrativeFeePerHouseholdColumn_Row_34: 'Utilization Projection'!#REF!
Name HTF_Budget_UtilizationProjectionGrid_AdministrativeFeePerHouseholdColumn_Row_35: 'Utilization Projection'!#REF!
Name HTF_Budget_UtilizationProjectionGrid_AdministrativeFeePerHouseholdColumn_Row_36: 'Utilization Projection'!#REF!
Name HTF_Budget_UtilizationProjectionGrid_AdministrativeFeePerHouseholdColumn_Row_4: 'Utilization Projection'!$I$9
Name HTF_Budget_UtilizationProjectionGrid_AdministrativeFeePerHouseholdColumn_Row_5: 'Utilization Projection'!$I$10
Name HTF_Budget_UtilizationProjectionGrid_AdministrativeFeePerHouseholdColumn_Row_6: 'Utilization Projection'!$I$11
Name HTF_Budget_UtilizationProjectionGrid_AdministrativeFeePerHouseholdColumn_Row_7: 'Utilization Projection'!$I$12
Name HTF_Budget_UtilizationProjectionGrid_AdministrativeFeePerHouseholdColumn_Row_8: 'Utilization Projection'!$I$13
Name HTF_Budget_UtilizationProjectionGrid_AdministrativeFeePerHouseholdColumn_Row_9: 'Utilization Projection'!$I$14
Name HTF_Budget_UtilizationProjectionGrid_AverageHousingRelatedExpensesColumn_Row_1: 'Utilization Projection'!$G$6
Name HTF_Budget_UtilizationProjectionGrid_AverageHousingRelatedExpensesColumn_Row_10: 'Utilization Projection'!$G$15
Name HTF_Budget_UtilizationProjectionGrid_AverageHousingRelatedExpensesColumn_Row_11: 'Utilization Projection'!$G$16
Name HTF_Budget_UtilizationProjectionGrid_AverageHousingRelatedExpensesColumn_Row_12: 'Utilization Projection'!$G$17
Name HTF_Budget_UtilizationProjectionGrid_AverageHousingRelatedExpensesColumn_Row_13: 'Utilization Projection'!$G$18
Name HTF_Budget_UtilizationProjectionGrid_AverageHousingRelatedExpensesColumn_Row_14: 'Utilization Projection'!$G$19
Name HTF_Budget_UtilizationProjectionGrid_AverageHousingRelatedExpensesColumn_Row_15: 'Utilization Projection'!$G$20
Name HTF_Budget_UtilizationProjectionGrid_AverageHousingRelatedExpensesColumn_Row_16: 'Utilization Projection'!$G$21
Name HTF_Budget_UtilizationProjectionGrid_AverageHousingRelatedExpensesColumn_Row_17: 'Utilization Projection'!$G$22
Name HTF_Budget_UtilizationProjectionGrid_AverageHousingRelatedExpensesColumn_Row_18: 'Utilization Projection'!$G$23
Name HTF_Budget_UtilizationProjectionGrid_AverageHousingRelatedExpensesColumn_Row_19: 'Utilization Projection'!$G$24
Name HTF_Budget_UtilizationProjectionGrid_AverageHousingRelatedExpensesColumn_Row_2: 'Utilization Projection'!$G$7
Name HTF_Budget_UtilizationProjectionGrid_AverageHousingRelatedExpensesColumn_Row_20: 'Utilization Projection'!$G$25
Name HTF_Budget_UtilizationProjectionGrid_AverageHousingRelatedExpensesColumn_Row_21: 'Utilization Projection'!$G$26
Name HTF_Budget_UtilizationProjectionGrid_AverageHousingRelatedExpensesColumn_Row_22: 'Utilization Projection'!$G$27
Name HTF_Budget_UtilizationProjectionGrid_AverageHousingRelatedExpensesColumn_Row_23: 'Utilization Projection'!$G$28
Name HTF_Budget_UtilizationProjectionGrid_AverageHousingRelatedExpensesColumn_Row_24: 'Utilization Projection'!$G$29
Name HTF_Budget_UtilizationProjectionGrid_AverageHousingRelatedExpensesColumn_Row_25: 'Utilization Projection'!#REF!

Sheet Instructions
B1: Housing Trust Fund Program Rental Assistance Budget Instructions
C2: Complete all tabs by entering relevant information in all white fields. Yellow fields are locked and will auto-populate based on information entered in the appropriate white field on the same or another tab.
C4: Save this funding request form using the naming convention of HTF_ApplicantName_BudgetForm and submit via the
C5: Multifamily Secure Upload Tool.
B7: Contact Information Tab
C8: Enter full information for each relevant contact type. If one organization fills more than one role, enter information in each contact type.
C9: Applicant Organization Name: This should be the legal name that will appear on the Grant Contract Agreement.
C10: For Applicant Organization, the Authorized Representative will be named on the Grant Contract Agreement.
B12: UTILIZATION PROJECTION FOR FUNDING REQUEST (To be completed by ALL applicants)
C13: THIS IS THE TOTAL AMOUNT OF FUNDING REQUESTED FOR RENTAL SUBSIDIES, HOUSING RELATED EXPENSES, AND ADMINISTRATIVE FEES
C14: Complete each of the white fields.
C15: · Number of Households (HH)/Month: Estimate the number of households expected to be in housing each month
C16: · Average Rental Subsidy/HH: Estimate the average subsidy amount, using the gross rent minus expected income contributions
C17: · Average Housing Related Expenses: Include security deposits, application fees, and other eligible housing related expenses. Some months this should be blank or $0
C18: · Administrative Fee/HH (if applicable): Permitted range of $62-$76 (refer to the Program Guide found on our website for guidance)
B20: Utilization Projection Tab
B21: CURRENT GRANT UTILIZATION (Row 33) (To be completed by CURRENT grantees only)
C22: · Current Grant Amount: Refer to current Grant Contract Agreement
C23: · Current Target Number of Households/Month: Refer to current Grant Contract Agreement
C24: · Actual Number of Households/Month (as of August 1, 2026)
C25: · Current Average Rental Assistance (RA only) (as of August 1, 2026)
C26: · Current Administrative Fee (if applicable): Refer to current Grant Contract Agreement
C27: · Projected Unspent Balance at end of Grant Term: Estimate expected unspent funds effective August 1, 2026
B29: Optional Housing Navigation Tab
C30: · Provide requested funds for housing navigation (refer to the 2027-2029 Program Guide found on our website for guidance). Refer to the "Optional Housing Navigation" Tab Instructions.

Sheet Contact Information
B1: Contact Information
B3: Applicant Organization Name | E3: Service Provider Organization Name
B4: Authorized Representative (required) | E4: Contact person (required)
B5: Title | E5: Title
B6: Address | E6: Address
B7: City | E7: City
B8: State | E8: State
B9: Zip Code | E9: Zip Code
B10: Phone | E10: Phone
B11: Email | E11: Email
B13: RA Administrator and/or Alternate Authorized Contact * | E13: Service Provider Organization Name
B14: Contact Person | E14: Contact person
B15: Phone | E15: Title
B16: Email | E16: Address
E17: City
B18: RA Administrator and/or Alternate Authorized Contact * | E18: State
B19: Contact Person | E19: Zip Code
B20: Phone | E20: Phone
B21: Email | E21: Email
B23: * Minnesota Housing strongly recommends providing contacts for alternate
B24: individuals who are authorized to provide materials or additional information
B25: that may be required during your application's review process.
B26: Supplying these contacts may assist in the timely submission of requested
B27: materials or additional information.

Sheet Utilization Projection
C2: UTILIZATION PROJECTION FOR FUNDING REQUEST (All Applicants)
C4: Month (New Applicants: consider adding a few households each month as you grow a new program. It is rare for organizations to achieve serving the total projected households in the first few months of their grant.) | D4: # of Households (HH) per Month | E4: Average Rental Subsidy per HH | F4: Monthly Rental Subsidy Expense | G4: Average Housing Related Expenses per HH | H4: Monthly Housing Related Expense | I4: Administrative Fee per HH | J4: Monthly Administrative Fee
D5: Estimate the number of households in housing each month. Consider unit turn rates & new lease-up timelines. | E5: Estimate the average subsidy amount, using the gross rent (gross rent = monthly rent + any utility allowance. Refer to your local PHA or HRA for these rates) minus expected income contributions. Also, consider rent increases at lease renewals. There may be a local percent-increase history available in your region. | F5: This will calculate automatically. | G5: These are typically application fees; security deposits; damage claims; vacancy payments; utility connection fees; other allowed expenses with Minnesota Housing approval. They do not repeat every month. | H5: This will calculate automatically. | I5: Minnesota Housing will approve an Administrative Fee within a range of $62 to $76 per household per month. The applicant's proposed monthly Administrative Fee may not exceed the fee paid by HUD to administrators of the Section 8 housing assistance program in the same jurisdiction. | J5: This will calculate automatically.
C6: 46661 | F6: =D6*E6 -> 0 | H6: =D6*G6 -> 0 | J6: =D6*I6 -> 0
C7: =DATE(YEAR(C6)+0,MONTH(C6)+1,DAY(C6)+0) -> 46692 | F7: =D7*E7 -> 0 | H7: =D7*G7 -> 0 | J7: =D7*I7 -> 0
C8: =DATE(YEAR(C7)+0,MONTH(C7)+1,DAY(C7)+0) -> 46722 | F8: =D8*E8 -> 0 | H8: =D8*G8 -> 0 | J8: =D8*I8 -> 0
C9: =DATE(YEAR(C8)+0,MONTH(C8)+1,DAY(C8)+0) -> 46753 | F9: =D9*E9 -> 0 | H9: =D9*G9 -> 0 | J9: =D9*I9 -> 0
C10: =DATE(YEAR(C9)+0,MONTH(C9)+1,DAY(C9)+0) -> 46784 | F10: =D10*E10 -> 0 | H10: =D10*G10 -> 0 | J10: =D10*I10 -> 0
C11: =DATE(YEAR(C10)+0,MONTH(C10)+1,DAY(C10)+0) -> 46813 | F11: =D11*E11 -> 0 | H11: =D11*G11 -> 0 | J11: =D11*I11 -> 0
C12: =DATE(YEAR(C11)+0,MONTH(C11)+1,DAY(C11)+0) -> 46844 | F12: =D12*E12 -> 0 | H12: =D12*G12 -> 0 | J12: =D12*I12 -> 0
C13: =DATE(YEAR(C12)+0,MONTH(C12)+1,DAY(C12)+0) -> 46874 | F13: =D13*E13 -> 0 | H13: =D13*G13 -> 0 | J13: =D13*I13 -> 0
C14: =DATE(YEAR(C13)+0,MONTH(C13)+1,DAY(C13)+0) -> 46905 | F14: =D14*E14 -> 0 | H14: =D14*G14 -> 0 | J14: =D14*I14 -> 0
C15: =DATE(YEAR(C14)+0,MONTH(C14)+1,DAY(C14)+0) -> 46935 | F15: =D15*E15 -> 0 | H15: =D15*G15 -> 0 | J15: =D15*I15 -> 0
C16: =DATE(YEAR(C15)+0,MONTH(C15)+1,DAY(C15)+0) -> 46966 | F16: =D16*E16 -> 0 | H16: =D16*G16 -> 0 | J16: =D16*I16 -> 0
C17: =DATE(YEAR(C16)+0,MONTH(C16)+1,DAY(C16)+0) -> 46997 | F17: =D17*E17 -> 0 | H17: =D17*G17 -> 0 | J17: =D17*I17 -> 0
C18: =DATE(YEAR(C17)+0,MONTH(C17)+1,DAY(C17)+0) -> 47027 | F18: =D18*E18 -> 0 | H18: =D18*G18 -> 0 | J18: =D18*I18 -> 0
... C29: =DATE(YEAR(C28)+0,MONTH(C28)+1,DAY(C28)+0) -> 47362 | F29: =D29*E29 -> 0 | H29: =D29*G29 -> 0 | J29: =D29*I29 -> 0
C30: Totals | D30: =MAX(D6:D29) -> 0 | F30: =SUM(F6:F29) -> 0 | H30: =SUM(H6:H29) -> 0 | J30: =SUM(J6:J29) -> 0
C33: CURRENT GRANT UTILIZATION (Current Grantees Only)
C34: Current Grant Amount
C35: Current Target Number of Households per Month
C36: Average Number of Households per Month (as of August 1, 2026)
C37: Current Average Rental Subsidy (as of August 1, 2026)

Sheet Optional Housing Navigation
L29: APPLICANT PLANNING TOOL
L30: Housing Navigation Eligible Activities | M30: Amount of Housing Navigation Funds | N30: Percent of Housing Navigation Funds | P30: HOUSING NAVIGATION BUDGET | V30: SAMPLE HOUSING NAVIGATION BUDGET
L31: Utilizing housing search engines to locate housing opportunities | N31: =IFERROR((M31/M$38),"-") -> - | P31: Staffing Expenses | S31: $ | T31: FTE | V31: Staffing Expenses | W31: $ | X31: FTE
L32: Assisting households in completing housing applications | N32: =IFERROR((M32/M$38),"-") -> - | V32: 2 Years' Housing Navigator salary | W32: 70000 | X32: 0.125
L33: Assisting households in obtaining application fees or other needed funds | N33: =IFERROR((M33/M$38),"-") -> - | V33: 2 Years' Housing Navigator Fringe (32%) | W33: 22400
L34: Transporting households to housing appointments | N34: =IFERROR((M34/M$38),"-") -> -
L35: Assisting households in communicating to potential landlords | N35: =IFERROR((M35/M$38),"-") -> -
L36: Providing tenant education on tenant/landlord rights and responsibilities | N36: =IFERROR((M36/M$38),"-") -> -
L37: Expediting the move-in timeline, when feasible, between the date of acceptance and lease signing | N37: =IFERROR((M37/M$38),"-") -> -
L38: TOTAL | M38: =SUM(M31:M37) -> 0 | N38: =IFERROR((M38/M$38),"-") -> -
S39: =SUM(S32:S38) -> 0 | W39: =SUM(W32:W38) -> 92400
P40: Staffing Expenses Subtotal | S40: =S39*T40 -> 0 | T40: =SUM(T32:T39) -> 0 | V40: Staffing Expenses Subtotal | W40: =W39*X40 -> 11550 | X40: =SUM(X32:X39) -> 0.125
P41: Other Expenses | V41: Other Expenses
V42: Mileage | W42: 500
V43: Phone, copies, laptop use, office supplies | W43: 50
P50: Other Expenses Subtotal | S50: =SUM(S42:S49) -> 0 | V50: Other Expenses Subtotal | W50: =SUM(W42:W49) -> 550
P52: Summary | V52: Summary
P53: Staffing | S53: =S40 -> 0 | V53: Staffing | W53: =W40 -> 11550
P54: Other | S54: =S50 -> 0 | V54: Other | W54: =W50 -> 550
P55: TOTAL | S55: =S53+S54 -> 0 | V55: Total | W55: =W53+W54 -> 12100

Sheet Total Budget
B2: Housing Trust Fund Rental Assistance Budget Summary
B3: Applicant Name: | C3: ='Contact Information'!C3 -> 0
B4: Budget Summary for October 1, 2027-September 30, 2029
B5: Category | C5: Eligible Uses | D5: Ineligible Uses | E5: Budget | F5: %
B6: Rental Assistance | C6: Rental Assistance funds available through this RFP may be used to provide TBRA and SBRA; other fees—as approved by Minnesota Housing—necessary to obtain landlord participation or to prevent repeat episodes of homelessness. | D6: Any expense not listed under "Eligible Use" or explicitly approved by Minnesota Housing. | E6: =HTF_Budget_UtilizationProjectionGrid_MonthlyRentalSubsidyExpenseColumn_Total -> 0 | F6: =E6/E$9 -> #DIV/0!
B7: Housing-Related Expenses | C7: Application fees; security deposits; damage claims; vacancy payment; utility connection fees; crisis-participant income diverted; other allowed expenses with Minnesota Housing approval. | D7: Moving and storage; household furnishing expenses; internet, phone, or mobile phone hardware and services; vehicles, vehicle repair and maintenance; local transportation service fares; food and other cash equivalents. | E7: =HTF_Budget_UtilizationProjectionGrid_MonthlyHousingRelatedExpensesColumn_Total -> 0 | F7: =E7/E$9 -> #DIV/0!
B8: Administration* | C8: The Administrative Fee will be paid to the Administrator each month in which a Participant resides in an eligible Assisted Unit. Minnesota Housing will approve an Administrative Fee within a range of $62 to $76 per household per month. Applicants should refer to the HTF Program Rental Assistance Guide for further guidance. The applicant's proposed monthly Administrative Fee may not exceed the fee paid by HUD to administrators of the Section 8 housing assistance program in the same jurisdiction, as described in Code of Federal Regulations, title 24, section 982.152. | D8: Salaries, fringe, or other aspects of compensation for Applicant staff; applicant space and supplies costs with the exception of eligible Housing Navigation expenses as below. | E8: =HTF_Budget_UtilizationProjectionGrid_MonthlyAdministrativeFeeExpenseColumn_Total -> 0 | F8: =E8/E$9 -> #DIV/0!
B9: Total Rental Assistance and Administration Requested | E9: =SUM(E6:E8) -> 0
B10: Total Optional Housing Navigation Requested | E10: ='Optional Housing Navigation'!S55 -> 0
B13: Total Households Projected to Be Served | C13: ='Utilization Projection'!D30 -> 0

Sheet Exhibit C
F10: Rental Assistance Grantee: | H10: =HTF_ContactInfoHTF_ApplicantAgency_Name -> 0
F11: MHFA D#:
F12: MHFA Project Number:
F13: Contact Person: | H13: =HTF_ContactInfoHTF_ApplicantAgency_ContactPerson -> 0
F14: Phone: | H14: =HTF_ContactInfoHTF_ApplicantAgency_Phone -> 0
F15: Email: | H15: =HTF_ContactInfoHTF_ApplicantAgency_Email -> 0
F16: Housing Navigation Award: | H16: 0
B28: ORIGINAL PROPOSED
B29: HOUSING NAVIGATION WORKPLAN | H29: HOUSING NAVIGATION WORKPLAN
A30: Housing Navigation Eligible Activities | B30: Amount of Housing Navigation Funds | C30: Percent of Housing Navigation Funds | F30: Housing Navigation Eligible Activities | G30: Amount of Housing Navigation Funds | H30: Housing Navigation Services | I30: Percent of Housing Navigation Funds | J30: Service Provider (if not grantee)
A31: Utilizing housing search engines to locate housing opportunities | B31: ='Optional Housing Navigation'!M31 -> 0 | C31: ='Optional Housing Navigation'!N31 -> - | F31: Utilizing housing search engines to locate housing opportunities
A32: Assisting households in completing housing applications | B32: ='Optional Housing Navigation'!M32 -> 0 | C32: ='Optional Housing Navigation'!N32 -> - | F32: Assisting households in completing housing applications
A33: Assisting households in obtaining application fees or other needed funds | B33: ='Optional Housing Navigation'!M33 -> 0 | C33: ='Optional Housing Navigation'!N33 -> - | F33: Assisting households in obtaining application fees or other needed funds
A34: Transporting households to housing appointments | B34: ='Optional Housing Navigation'!M34 -> 0 | C34: ='Optional Housing Navigation'!N34 -> - | F34: Transporting households to housing appointments
A35: Assisting households in communicating to potential property owner/managers | B35: ='Optional Housing Navigation'!M35 -> 0 | C35: ='Optional Housing Navigation'!N35 -> - | F35: Assisting households in communicating to property owners/managers
A36: Providing tenant education on tenant/property owner rights and responsibilities | B36: ='Optional Housing Navigation'!M36 -> 0 | C36: ='Optional Housing Navigation'!N36 -> - | F36: Providing tenant education on tenant/property owner rights and responsibilities
A37: Expediting the move-in timeline, when feasible, between the date of acceptance and lease signing | B37: ='Optional Housing Navigation'!M37 -> 0 | C37: ='Optional Housing Navigation'!N37 -> - | F37: Expediting the move-in timeline, when feasible, between the date of acceptance and lease signing
A38: TOTAL | B38: ='Optional Housing Navigation'!M38 -> 0 | C38: ='Optional Housing Navigation'!N38 -> -
F39: Program Summary: Based on the awarded amount, briefly describe any changes to the originally proposed use of Housing Navigation Funds.
A77: =F77 -> Staffing Expenses | C77: $ | F77: Staffing Expenses | I77: $ | J77: FTE
A78: =IF(('Optional Housing Navigation'!P32)=0,"--",('Optional Housing Navigation'!P32)) -> -- | B78: =IF(('Optional Housing Navigation'!M77)=0,"None",('Optional Housing Navigation'!M77)) -> None | C78: ='Optional Housing Navigation'!S32 -> 0 | D78: ='Optional Housing Navigation'!T32 -> 0 | I78: 0
A79: =IF(('Optional Housing Navigation'!P33)=0,"--",('Optional Housing Navigation'!P33)) -> -- | B79: =IF(('Optional Housing Navigation'!M78)=0,"None",('Optional Housing Navigation'!M78)) -> None | C79: ='Optional Housing Navigation'!S33 -> 0 | I79: 0
A80: =IF(('Optional Housing Navigation'!P34)=0,"--",('Optional Housing Navigation'!P34)) -> -- | B80: =IF(('Optional Housing Navigation'!M79)=0,"None",('Optional Housing Navigation'!M79)) -> None | C80: ='Optional Housing Navigation'!S34 -> 0 | I80: 0
A81: =IF(('Optional Housing Navigation'!P35)=0,"--",('Optional Housing Navigation'!P35)) -> -- | B81: =IF(('Optional Housing Navigation'!M80)=0,"None",('Optional Housing Navigation'!M80)) -> None | C81: ='Optional Housing Navigation'!S35 -> 0 | I81: 0
A82: =IF(('Optional Housing Navigation'!P36)=0,"--",('Optional Housing Navigation'!P36)) -> -- | B82: =IF(('Optional Housing Navigation'!M81)=0,"None",('Optional Housing Navigation'!M81)) -> None | C82: ='Optional Housing Navigation'!S36 -> 0 | I82: 0
A83: =IF(('Optional Housing Navigation'!P37)=0,"--",('Optional Housing Navigation'!P37)) -> -- | B83: =IF(('Optional Housing Navigation'!M82)=0,"None",('Optional Housing Navigation'!M82)) -> None | C83: ='Optional Housing Navigation'!S37 -> 0 | I83: 0
A84: Staffing Expenses Subtotal | C84: ='Optional Housing Navigation'!S40 -> 0 | F84: Staffing Expenses Subtotal | I84: =SUM(I78:I83) -> 0 | J84: =J78 -> 0
F85: Other Expenses
A86: =IF(('Optional Housing Navigation'!P42)=0,"--",('Optional Housing Navigation'!P42)) -> -- | B86: =IF(('Optional Housing Navigation'!M87)=0,"None",('Optional Housing Navigation'!M87)) -> None | C86: ='Optional Housing Navigation'!S42 -> 0 | I86: 0
A87: =IF(('Optional Housing Navigation'!P43)=0,"--",('Optional Housing Navigation'!P43)) -> -- | B87: =IF(('Optional Housing Navigation'!M88)=0,"None",('Optional Housing Navigation'!M88)) -> None | C87: ='Optional Housing Navigation'!S43 -> 0 | I87: 0
A88: =IF(('Optional Housing Navigation'!P44)=0,"--",('Optional Housing Navigation'!P44)) -> -- | B88: =IF(('Optional Housing Navigation'!M89)=0,"None",('Optional Housing Navigation'!M89)) -> None | C88: ='Optional Housing Navigation'!S44 -> 0 | I88: 0
A89: =IF(('Optional Housing Navigation'!P45)=0,"--",('Optional Housing Navigation'!P45)) -> -- | B89: =IF(('Optional Housing Navigation'!M90)=0,"None",('Optional Housing Navigation'!M90)) -> None | C89: ='Optional Housing Navigation'!S45 -> 0 | I89: 0
A90: =IF(('Optional Housing Navigation'!P47)=0,"--",('Optional Housing Navigation'!P47)) -> -- | B90: =IF(('Optional Housing Navigation'!M91)=0,"None",('Optional Housing Navigation'!M91)) -> None | C90: ='Optional Housing Navigation'!S46 -> 0 | I90: 0
A91: =IF(('Optional Housing Navigation'!#REF!)=0,"--",('Optional Housing Navigation'!#REF!)) -> #REF! | B91: =IF(('Optional Housing Navigation'!M92)=0,"None",('Optional Housing Navigation'!M92)) -> None | C91: ='Optional Housing Navigation'!S47 -> 0 | I91: 0
A92: =IF(('Optional Housing Navigation'!P48)=0,"--",('Optional Housing Navigation'!P48)) -> -- | B92: =IF(('Optional Housing Navigation'!M93)=0,"None",('Optional Housing Navigation'!M93)) -> None | C92: ='Optional Housing Navigation'!S48 -> 0 | I92: 0
A93: =IF(('Optional Housing Navigation'!P49)=0,"--",('Optional Housing Navigation'!P49)) -> -- | B93: =IF(('Optional Housing Navigation'!M94)=0,"None",('Optional Housing Navigation'!M94)) -> None | C93: ='Optional Housing Navigation'!S49 -> 0 | I93: 0
A94: Other Expenses Subtotal | C94: =SUM(C86:C93) -> 0 | F94: Other Expenses Subtotal | I94: =SUM(I86:I93) -> 0
A96: Summary | F96: Summary
A97: Total Funding Proposed | C97: =SUM(C89:C96) -> 0 | F97: Total Funding Award | I97: =SUM(I89:I96) -> 0
A98: Staffing | C98: =C84 -> 0 | F98: Staffing | I98: =I84 -> 0 | J98: =I98/I97 -> #DIV/0!
...

Sheet Names
A1: Name | B1: Sheet
A2: grantMgmt | B2: Contact Info
A3: grantMgmtAddr | B3: Contact Info
A4: grantMgmtCity | B4: Contact Info
A5: grantMgmtContact | B5: Contact Info
A6: grantMgmtEmail | B6: Contact Info
A7: grantMgmtPhone | B7: Contact Info
A8: grantMgmtState | B8: Contact Info
A9: grantMgmtZip | B9: Contact Info
A10: hmis | B10: Contact Info
A11: hmisAddr | B11: Contact Info
A12: hmisCity | B12: Contact Info
... A301: TY_VacantUnits | B301: RSF Budget

Sheet Sheet1
A2: Audubon Crossing | C2: Aitkin | D2: Red Lake
A3: Camden | C3: Anoka | D3: White Earth
A4: Cascade Creek | C4: Becker | D4: Leech Lake
A5: Cedarview Commons/Rivertown Commons | C5: Beltrami | D5: Boise Forte/Nett Lake
A6: Crane Ordway | C6: Benton | D6: Grand Portage
A7: Crossing at Big Lake | C7: Big Stone | D7: Fond du Lac
A8: The Depot at Elk River | C8: Blue Earth | D8: Mille Lacs
A9: Fire House Flats | C9: Brown | D9: Shakopee Mdewakanton Sioux
A10: Grand Oaks Court TH | C10: Carlton | D10: Prairie Island
A11: The Jeremiah | C11: Carver | D11: Upper Sioux
A12: Maynidoowahdak Odena | C12: Cass | D12: Lower Sioux
A13: Minnesota Place | C13: Chippewa
A14: Normandy TH | C14: Chisago
A15: PPL Scattered Site RA | C15: Clay
A16: River Rock TH | C16: Clearwater
A17: Vail Place | C17: Cook
A18: The Wellstone | C18: Cottonwood
A19: Vicksburg Commons | C19: Crow Wing
C20: Dakota
C21: Dodge
C22: Douglas
C23: Faribault
C24: Fillmore
C25: Freeborn
C26: Goodhue
C27: Grant
C28: Hennepin
C29: Houston
C30: Hubbard
C31: Isanti
... C88: Yellow Medicine
